BEGIN:VCALENDAR
VERSION:2.0
PRODID:https://www.kufer.de/kuferweb / DE
METHOD:PUBLISH
CALSCALE:GREGORIAN
X-WR-TIMEZONE:Europe/Berlin
BEGIN:VTIMEZONE
TZID:Europe/Berlin
X-LIC-LOCATION:Europe/Berlin
BEGIN:DAYLIGHT
TZOFFSETFROM:+0100
TZOFFSETTO:+0200
TZNAME:CEST
DTSTART:19700329T020000
RRULE:FREQ=YEARLY;INTERVAL=1;BYDAY=-1SU;BYMONTH=3
END:DAYLIGHT
BEGIN:STANDARD
TZOFFSETFROM:+0200
TZOFFSETTO:+0100
TZNAME:CET
DTSTART:19701025T030000
RRULE:FREQ=YEARLY;INTERVAL=1;BYDAY=-1SU;BYMONTH=10
END:STANDARD
END:VTIMEZONE
BEGIN:VEVENT
DTSTAMP:20260426T054038
DTSTART;TZID=Europe/Berlin:20260112T093000
DTEND;TZID=Europe/Berlin:20260112T123000
UID:261FB180-A-20260112T093000@DRKDUISBURG
SUMMARY:Elterncafé (261FB180-A) 
LOCATION:DRK-Bildungswerk Friemersheim; Elterncafé, Kaiserstr. 51a, 47229 Duisburg
END:VEVENT
BEGIN:VEVENT
DTSTAMP:20260426T054038
DTSTART;TZID=Europe/Berlin:20260112T093000
DTEND;TZID=Europe/Berlin:20260112T123000
UID:261FB180-A-20260112T093000@DRKDUISBURG
DESCRIPTION:a 18.3.
SUMMARY:Elterncafé (261FB180-A) 
LOCATION:DRK-Bildungswerk Friemersheim; Elterncafé, Kaiserstr. 51a, 47229 Duisburg
END:VEVENT
BEGIN:VEVENT
DTSTAMP:20260426T054038
DTSTART;TZID=Europe/Berlin:20260119T093000
DTEND;TZID=Europe/Berlin:20260119T123000
UID:261FB180-A-20260119T093000@DRKDUISBURG
SUMMARY:Elterncafé (261FB180-A) 
LOCATION:DRK-Bildungswerk Friemersheim; Elterncafé, Kaiserstr. 51a, 47229 Duisburg
END:VEVENT
BEGIN:VEVENT
DTSTAMP:20260426T054038
DTSTART;TZID=Europe/Berlin:20260119T093000
DTEND;TZID=Europe/Berlin:20260119T123000
UID:261FB180-A-20260119T093000@DRKDUISBURG
DESCRIPTION:a 18.3.
SUMMARY:Elterncafé (261FB180-A) 
LOCATION:DRK-Bildungswerk Friemersheim; Elterncafé, Kaiserstr. 51a, 47229 Duisburg
END:VEVENT
BEGIN:VEVENT
DTSTAMP:20260426T054038
DTSTART;TZID=Europe/Berlin:20260126T093000
DTEND;TZID=Europe/Berlin:20260126T123000
UID:261FB180-A-20260126T093000@DRKDUISBURG
SUMMARY:Elterncafé (261FB180-A) 
LOCATION:DRK-Bildungswerk Friemersheim; Elterncafé, Kaiserstr. 51a, 47229 Duisburg
END:VEVENT
BEGIN:VEVENT
DTSTAMP:20260426T054038
DTSTART;TZID=Europe/Berlin:20260126T093000
DTEND;TZID=Europe/Berlin:20260126T123000
UID:261FB180-A-20260126T093000@DRKDUISBURG
DESCRIPTION:a 18.3.
SUMMARY:Elterncafé (261FB180-A) 
LOCATION:DRK-Bildungswerk Friemersheim; Elterncafé, Kaiserstr. 51a, 47229 Duisburg
END:VEVENT
BEGIN:VEVENT
DTSTAMP:20260426T054038
DTSTART;TZID=Europe/Berlin:20260202T093000
DTEND;TZID=Europe/Berlin:20260202T123000
UID:261FB180-A-20260202T093000@DRKDUISBURG
SUMMARY:Elterncafé (261FB180-A) 
LOCATION:DRK-Bildungswerk Friemersheim; Elterncafé, Kaiserstr. 51a, 47229 Duisburg
END:VEVENT
BEGIN:VEVENT
DTSTAMP:20260426T054038
DTSTART;TZID=Europe/Berlin:20260202T093000
DTEND;TZID=Europe/Berlin:20260202T123000
UID:261FB180-A-20260202T093000@DRKDUISBURG
DESCRIPTION:a 18.3.
SUMMARY:Elterncafé (261FB180-A) 
LOCATION:DRK-Bildungswerk Friemersheim; Elterncafé, Kaiserstr. 51a, 47229 Duisburg
END:VEVENT
BEGIN:VEVENT
DTSTAMP:20260426T054038
DTSTART;TZID=Europe/Berlin:20260209T093000
DTEND;TZID=Europe/Berlin:20260209T123000
UID:261FB180-A-20260209T093000@DRKDUISBURG
DESCRIPTION:a 18.3.
SUMMARY:Elterncafé (261FB180-A) 
LOCATION:DRK-Bildungswerk Friemersheim; Elterncafé, Kaiserstr. 51a, 47229 Duisburg
END:VEVENT
BEGIN:VEVENT
DTSTAMP:20260426T054038
DTSTART;TZID=Europe/Berlin:20260209T093000
DTEND;TZID=Europe/Berlin:20260209T123000
UID:261FB180-A-20260209T093000@DRKDUISBURG
SUMMARY:Elterncafé (261FB180-A) 
LOCATION:DRK-Bildungswerk Friemersheim; Elterncafé, Kaiserstr. 51a, 47229 Duisburg
END:VEVENT
BEGIN:VEVENT
DTSTAMP:20260426T054038
DTSTART;TZID=Europe/Berlin:20260223T093000
DTEND;TZID=Europe/Berlin:20260223T123000
UID:261FB180-A-20260223T093000@DRKDUISBURG
SUMMARY:Elterncafé (261FB180-A) 
LOCATION:DRK-Bildungswerk Friemersheim; Elterncafé, Kaiserstr. 51a, 47229 Duisburg
END:VEVENT
BEGIN:VEVENT
DTSTAMP:20260426T054038
DTSTART;TZID=Europe/Berlin:20260302T093000
DTEND;TZID=Europe/Berlin:20260302T123000
UID:261FB180-A-20260302T093000@DRKDUISBURG
DESCRIPTION:a 24.3.
SUMMARY:Elterncafé (261FB180-A) 
LOCATION:DRK-Bildungswerk Friemersheim; Elterncafé, Kaiserstr. 51a, 47229 Duisburg
END:VEVENT
BEGIN:VEVENT
DTSTAMP:20260426T054038
DTSTART;TZID=Europe/Berlin:20260309T093000
DTEND;TZID=Europe/Berlin:20260309T123000
UID:261FB180-A-20260309T093000@DRKDUISBURG
SUMMARY:Elterncafé (261FB180-A) 
LOCATION:DRK-Bildungswerk Friemersheim; Elterncafé, Kaiserstr. 51a, 47229 Duisburg
END:VEVENT
BEGIN:VEVENT
DTSTAMP:20260426T054038
DTSTART;TZID=Europe/Berlin:20260316T093000
DTEND;TZID=Europe/Berlin:20260316T123000
UID:261FB180-A-20260316T093000@DRKDUISBURG
SUMMARY:Elterncafé (261FB180-A) 
LOCATION:DRK-Bildungswerk Friemersheim; Elterncafé, Kaiserstr. 51a, 47229 Duisburg
END:VEVENT
BEGIN:VEVENT
DTSTAMP:20260426T054038
DTSTART;TZID=Europe/Berlin:20260323T093000
DTEND;TZID=Europe/Berlin:20260323T123000
UID:261FB180-A-20260323T093000@DRKDUISBURG
SUMMARY:Elterncafé (261FB180-A) 
LOCATION:DRK-Bildungswerk Friemersheim; Elterncafé, Kaiserstr. 51a, 47229 Duisburg
END:VEVENT
BEGIN:VEVENT
DTSTAMP:20260426T054038
DTSTART;TZID=Europe/Berlin:20260413T093000
DTEND;TZID=Europe/Berlin:20260413T123000
UID:261FB180-A-20260413T093000@DRKDUISBURG
SUMMARY:Elterncafé (261FB180-A) 
LOCATION:DRK-Bildungswerk Friemersheim; Elterncafé, Kaiserstr. 51a, 47229 Duisburg
END:VEVENT
BEGIN:VEVENT
DTSTAMP:20260426T054038
DTSTART;TZID=Europe/Berlin:20260413T093000
DTEND;TZID=Europe/Berlin:20260413T123000
UID:261FB180-A-20260413T093000@DRKDUISBURG
SUMMARY:Elterncafé (261FB180-A) 
LOCATION:DRK-Bildungswerk Friemersheim; Elterncafé, Kaiserstr. 51a, 47229 Duisburg
END:VEVENT
BEGIN:VEVENT
DTSTAMP:20260426T054038
DTSTART;TZID=Europe/Berlin:20260420T093000
DTEND;TZID=Europe/Berlin:20260420T123000
UID:261FB180-A-20260420T093000@DRKDUISBURG
SUMMARY:Elterncafé (261FB180-A) 
LOCATION:DRK-Bildungswerk Friemersheim; Elterncafé, Kaiserstr. 51a, 47229 Duisburg
END:VEVENT
BEGIN:VEVENT
DTSTAMP:20260426T054038
DTSTART;TZID=Europe/Berlin:20260420T093000
DTEND;TZID=Europe/Berlin:20260420T123000
UID:261FB180-A-20260420T093000@DRKDUISBURG
SUMMARY:Elterncafé (261FB180-A) 
LOCATION:DRK-Bildungswerk Friemersheim; Elterncafé, Kaiserstr. 51a, 47229 Duisburg
END:VEVENT
BEGIN:VEVENT
DTSTAMP:20260426T054038
DTSTART;TZID=Europe/Berlin:20260427T093000
DTEND;TZID=Europe/Berlin:20260427T123000
UID:261FB180-A-20260427T093000@DRKDUISBURG
SUMMARY:Elterncafé (261FB180-A) 
LOCATION:DRK-Bildungswerk Friemersheim; Elterncafé, Kaiserstr. 51a, 47229 Duisburg
END:VEVENT
BEGIN:VEVENT
DTSTAMP:20260426T054038
DTSTART;TZID=Europe/Berlin:20260427T093000
DTEND;TZID=Europe/Berlin:20260427T123000
UID:261FB180-A-20260427T093000@DRKDUISBURG
SUMMARY:Elterncafé (261FB180-A) 
LOCATION:DRK-Bildungswerk Friemersheim; Elterncafé, Kaiserstr. 51a, 47229 Duisburg
END:VEVENT
BEGIN:VEVENT
DTSTAMP:20260426T054038
DTSTART;TZID=Europe/Berlin:20260504T093000
DTEND;TZID=Europe/Berlin:20260504T123000
UID:261FB180-A-20260504T093000@DRKDUISBURG
SUMMARY:Elterncafé (261FB180-A) 
LOCATION:DRK-Bildungswerk Friemersheim; Elterncafé, Kaiserstr. 51a, 47229 Duisburg
END:VEVENT
BEGIN:VEVENT
DTSTAMP:20260426T054038
DTSTART;TZID=Europe/Berlin:20260504T093000
DTEND;TZID=Europe/Berlin:20260504T123000
UID:261FB180-A-20260504T093000@DRKDUISBURG
SUMMARY:Elterncafé (261FB180-A) 
LOCATION:DRK-Bildungswerk Friemersheim; Elterncafé, Kaiserstr. 51a, 47229 Duisburg
END:VEVENT
BEGIN:VEVENT
DTSTAMP:20260426T054038
DTSTART;TZID=Europe/Berlin:20260511T093000
DTEND;TZID=Europe/Berlin:20260511T123000
UID:261FB180-A-20260511T093000@DRKDUISBURG
SUMMARY:Elterncafé (261FB180-A) 
LOCATION:DRK-Bildungswerk Friemersheim; Elterncafé, Kaiserstr. 51a, 47229 Duisburg
END:VEVENT
BEGIN:VEVENT
DTSTAMP:20260426T054038
DTSTART;TZID=Europe/Berlin:20260511T093000
DTEND;TZID=Europe/Berlin:20260511T123000
UID:261FB180-A-20260511T093000@DRKDUISBURG
SUMMARY:Elterncafé (261FB180-A) 
LOCATION:DRK-Bildungswerk Friemersheim; Elterncafé, Kaiserstr. 51a, 47229 Duisburg
END:VEVENT
BEGIN:VEVENT
DTSTAMP:20260426T054038
DTSTART;TZID=Europe/Berlin:20260518T093000
DTEND;TZID=Europe/Berlin:20260518T123000
UID:261FB180-A-20260518T093000@DRKDUISBURG
SUMMARY:Elterncafé (261FB180-A) 
LOCATION:DRK-Bildungswerk Friemersheim; Elterncafé, Kaiserstr. 51a, 47229 Duisburg
END:VEVENT
BEGIN:VEVENT
DTSTAMP:20260426T054038
DTSTART;TZID=Europe/Berlin:20260518T093000
DTEND;TZID=Europe/Berlin:20260518T123000
UID:261FB180-A-20260518T093000@DRKDUISBURG
SUMMARY:Elterncafé (261FB180-A) 
LOCATION:DRK-Bildungswerk Friemersheim; Elterncafé, Kaiserstr. 51a, 47229 Duisburg
END:VEVENT
BEGIN:VEVENT
DTSTAMP:20260426T054038
DTSTART;TZID=Europe/Berlin:20260601T093000
DTEND;TZID=Europe/Berlin:20260601T123000
UID:261FB180-A-20260601T093000@DRKDUISBURG
SUMMARY:Elterncafé (261FB180-A) 
LOCATION:DRK-Bildungswerk Friemersheim; Elterncafé, Kaiserstr. 51a, 47229 Duisburg
END:VEVENT
BEGIN:VEVENT
DTSTAMP:20260426T054038
DTSTART;TZID=Europe/Berlin:20260601T093000
DTEND;TZID=Europe/Berlin:20260601T123000
UID:261FB180-A-20260601T093000@DRKDUISBURG
SUMMARY:Elterncafé (261FB180-A) 
LOCATION:DRK-Bildungswerk Friemersheim; Elterncafé, Kaiserstr. 51a, 47229 Duisburg
END:VEVENT
BEGIN:VEVENT
DTSTAMP:20260426T054038
DTSTART;TZID=Europe/Berlin:20260608T093000
DTEND;TZID=Europe/Berlin:20260608T123000
UID:261FB180-A-20260608T093000@DRKDUISBURG
SUMMARY:Elterncafé (261FB180-A) 
LOCATION:DRK-Bildungswerk Friemersheim; Elterncafé, Kaiserstr. 51a, 47229 Duisburg
END:VEVENT
BEGIN:VEVENT
DTSTAMP:20260426T054038
DTSTART;TZID=Europe/Berlin:20260608T093000
DTEND;TZID=Europe/Berlin:20260608T123000
UID:261FB180-A-20260608T093000@DRKDUISBURG
SUMMARY:Elterncafé (261FB180-A) 
LOCATION:DRK-Bildungswerk Friemersheim; Elterncafé, Kaiserstr. 51a, 47229 Duisburg
END:VEVENT
BEGIN:VEVENT
DTSTAMP:20260426T054038
DTSTART;TZID=Europe/Berlin:20260615T093000
DTEND;TZID=Europe/Berlin:20260615T123000
UID:261FB180-A-20260615T093000@DRKDUISBURG
SUMMARY:Elterncafé (261FB180-A) 
LOCATION:DRK-Bildungswerk Friemersheim; Elterncafé, Kaiserstr. 51a, 47229 Duisburg
END:VEVENT
BEGIN:VEVENT
DTSTAMP:20260426T054038
DTSTART;TZID=Europe/Berlin:20260615T093000
DTEND;TZID=Europe/Berlin:20260615T123000
UID:261FB180-A-20260615T093000@DRKDUISBURG
SUMMARY:Elterncafé (261FB180-A) 
LOCATION:DRK-Bildungswerk Friemersheim; Elterncafé, Kaiserstr. 51a, 47229 Duisburg
END:VEVENT
BEGIN:VEVENT
DTSTAMP:20260426T054038
DTSTART;TZID=Europe/Berlin:20260622T093000
DTEND;TZID=Europe/Berlin:20260622T123000
UID:261FB180-A-20260622T093000@DRKDUISBURG
SUMMARY:Elterncafé (261FB180-A) 
LOCATION:DRK-Bildungswerk Friemersheim; Elterncafé, Kaiserstr. 51a, 47229 Duisburg
END:VEVENT
BEGIN:VEVENT
DTSTAMP:20260426T054038
DTSTART;TZID=Europe/Berlin:20260622T093000
DTEND;TZID=Europe/Berlin:20260622T123000
UID:261FB180-A-20260622T093000@DRKDUISBURG
SUMMARY:Elterncafé (261FB180-A) 
LOCATION:DRK-Bildungswerk Friemersheim; Elterncafé, Kaiserstr. 51a, 47229 Duisburg
END:VEVENT
END:VCALENDAR