BEGIN:VCALENDAR
VERSION:2.0
PRODID:https://www.kufer.de/kuferweb / DE
METHOD:PUBLISH
CALSCALE:GREGORIAN
X-WR-TIMEZONE:Europe/Berlin
BEGIN:VTIMEZONE
TZID:Europe/Berlin
X-LIC-LOCATION:Europe/Berlin
BEGIN:DAYLIGHT
TZOFFSETFROM:+0100
TZOFFSETTO:+0200
TZNAME:CEST
DTSTART:19700329T020000
RRULE:FREQ=YEARLY;INTERVAL=1;BYDAY=-1SU;BYMONTH=3
END:DAYLIGHT
BEGIN:STANDARD
TZOFFSETFROM:+0200
TZOFFSETTO:+0100
TZNAME:CET
DTSTART:19701025T030000
RRULE:FREQ=YEARLY;INTERVAL=1;BYDAY=-1SU;BYMONTH=10
END:STANDARD
END:VTIMEZONE
BEGIN:VEVENT
DTSTAMP:20260422T041356
DTSTART;TZID=Europe/Berlin:20260209T200000
DTEND;TZID=Europe/Berlin:20260209T213000
UID:261EB242-A-20260209T200000@DRKDUISBURG
SUMMARY:Kundalini-Yoga (261EB242-A) 
LOCATION:DRK-KiTa Buchholz, Swakopmunder Str. 28, 47249 Duisburg
END:VEVENT
BEGIN:VEVENT
DTSTAMP:20260422T041356
DTSTART;TZID=Europe/Berlin:20260302T200000
DTEND;TZID=Europe/Berlin:20260302T213000
UID:261EB242-A-20260302T200000@DRKDUISBURG
SUMMARY:Kundalini-Yoga (261EB242-A) 
LOCATION:DRK-KiTa Buchholz, Swakopmunder Str. 28, 47249 Duisburg
END:VEVENT
BEGIN:VEVENT
DTSTAMP:20260422T041356
DTSTART;TZID=Europe/Berlin:20260316T200000
DTEND;TZID=Europe/Berlin:20260316T213000
UID:261EB242-A-20260316T200000@DRKDUISBURG
SUMMARY:Kundalini-Yoga (261EB242-A) 
LOCATION:DRK-KiTa Buchholz, Swakopmunder Str. 28, 47249 Duisburg
END:VEVENT
BEGIN:VEVENT
DTSTAMP:20260422T041356
DTSTART;TZID=Europe/Berlin:20260330T200000
DTEND;TZID=Europe/Berlin:20260330T213000
UID:261EB242-A-20260330T200000@DRKDUISBURG
SUMMARY:Kundalini-Yoga (261EB242-A) 
LOCATION:DRK-KiTa Buchholz, Swakopmunder Str. 28, 47249 Duisburg
END:VEVENT
BEGIN:VEVENT
DTSTAMP:20260422T041356
DTSTART;TZID=Europe/Berlin:20260420T200000
DTEND;TZID=Europe/Berlin:20260420T213000
UID:261EB242-A-20260420T200000@DRKDUISBURG
SUMMARY:Kundalini-Yoga (261EB242-A) 
LOCATION:DRK-KiTa Buchholz, Swakopmunder Str. 28, 47249 Duisburg
END:VEVENT
END:VCALENDAR